BEGIN:VCALENDAR
PRODID:-//github.com/rianjs/ical.net//NONSGML ical.net 4.0//EN
VERSION:2.0
BEGIN:VEVENT
DESCRIPTION:Quer durch den Kreis Offenbach queren wir den Main über die Ki
 lianusbrück in Mainflingen zur Rast im Schluchthof. Der Rückweg führt übe
 r Stockstadt und Babenhausen nach Dreieich. Anmeldung notwendig.\nhttps:/
 /touren-termine.adfc.de/radveranstaltung/122794-zum-schluchthof-bei-klein
 ostheim
DTEND:20240915T160000Z
DTSTAMP:20260423T192613Z
DTSTART:20240915T073000Z
LOCATION:Lindenplatz\, 63303 Sprendlingen
SEQUENCE:0
SUMMARY:Zum Schluchthof bei Kleinostheim
UID:98bd4da3-f763-41e9-beac-45fa9dd119e2
URL:https://touren-termine.adfc.de/radveranstaltung/122794-zum-schluchthof
 -bei-kleinostheim
END:VEVENT
END:VCALENDAR
