BEGIN:VCALENDAR
PRODID:-//github.com/rianjs/ical.net//NONSGML ical.net 4.0//EN
VERSION:2.0
BEGIN:VEVENT
DESCRIPTION:Fränkische Toskana (offene Tour)\nhttps://touren-termine.adfc.
 de/radveranstaltung/82872-frankische-toskana
DTEND:20230714T160000Z
DTSTAMP:20260421T101109Z
DTSTART:20230714T080000Z
LOCATION:Nürnberger Tor\, 91301 Forchheim
SEQUENCE:0
SUMMARY:Fränkische Toskana
UID:9f3af07a-7db9-44c8-ae14-388704bb2590
URL:https://touren-termine.adfc.de/radveranstaltung/82872-frankische-toska
 na
END:VEVENT
END:VCALENDAR
