BEGIN:VCALENDAR
PRODID:-//github.com/rianjs/ical.net//NONSGML ical.net 4.0//EN
VERSION:2.0
BEGIN:VEVENT
DESCRIPTION:Jeden Montag findet morgens eine Radtour statt.\nhttps://toure
 n-termine.adfc.de/radveranstaltung/107326-montag-morgen-tour
DTEND:20231002T100000Z
DTSTAMP:20260423T201119Z
DTSTART:20231002T080000Z
LOCATION:In der Ahe 29\, 27356 Rotenburg
SEQUENCE:0
SUMMARY:Montag Morgen Tour
UID:b66dbe39-b6cf-442a-91d9-b4ce845c49e5
URL:https://touren-termine.adfc.de/radveranstaltung/107326-montag-morgen-t
 our
END:VEVENT
END:VCALENDAR
