BEGIN:VCALENDAR
PRODID:-//github.com/rianjs/ical.net//NONSGML ical.net 4.0//EN
VERSION:2.0
BEGIN:VEVENT
DESCRIPTION:Dienstags & Donnerstags zwischen 18:00 und 20:00 Uhr kann dort
  jeder\, sein Fahrrad eigenverantwortlich selbst reparieren - wenn nötig 
 unter Anleitung oder Mithilfe unsere Werkstattteams\nhttps://touren-termi
 ne.adfc.de/radveranstaltung/165981-selbsthilfewerkstatt-ist-geoffnet
DTEND:20250805T180000Z
DTSTAMP:20260424T151932Z
DTSTART:20250805T160000Z
LOCATION:ADFC-Selbsthilfewerkstatt\, Weinweg 2\, 93049 Regensburg
SEQUENCE:0
SUMMARY:Selbsthilfewerkstatt ist geöffnet
UID:c7f99929-6c06-4426-a1e3-00eab7034cad
URL:https://touren-termine.adfc.de/radveranstaltung/165981-selbsthilfewerk
 statt-ist-geoffnet
END:VEVENT
END:VCALENDAR
