BEGIN:VCALENDAR
PRODID:-//github.com/rianjs/ical.net//NONSGML ical.net 4.0//EN
VERSION:2.0
BEGIN:VEVENT
DESCRIPTION:Einmal auf dem Fahrrad rund um Stuttgart. Der Radel-Thon ist e
 in Highlight rund um den Stuttgarter Talkessel. Vorbei an Weinbergen\, Wä
 ldern und Gewässer zeigt sich Stuttgart abwechslungsreich.\nhttps://toure
 n-termine.adfc.de/radveranstaltung/147245-radelthon-stuttgart-pedelectour
DTEND:20250725T153000Z
DTSTAMP:20260423T154705Z
DTSTART:20250725T070000Z
LOCATION:Forum\, 71638 Ludwigsburg
SEQUENCE:0
SUMMARY:Radel-Thon Stuttgart - Pedelec-Tour
UID:e1a128cd-ba53-4e42-ab1b-d9987d38678d
URL:https://touren-termine.adfc.de/radveranstaltung/147245-radelthon-stutt
 gart-pedelectour
END:VEVENT
END:VCALENDAR
