BEGIN:VCALENDAR
PRODID:-//github.com/rianjs/ical.net//NONSGML ical.net 4.0//EN
VERSION:2.0
BEGIN:VEVENT
DESCRIPTION:Bericht über eine Radtour um das Land Thüringen\nhttps://toure
 n-termine.adfc.de/radveranstaltung/172439-bilderabend
DTEND:20251024T200000Z
DTSTAMP:20260424T142422Z
DTSTART:20251024T180000Z
LOCATION:Rotebühlstraße 86/1\, 70178 Stuttgart
SEQUENCE:0
SUMMARY:Bilderabend
UID:48400c82-8513-4c0d-9c64-fcaeae81b06f
URL:https://touren-termine.adfc.de/radveranstaltung/172439-bilderabend
END:VEVENT
END:VCALENDAR
