BEGIN:VCALENDAR
PRODID:-//github.com/rianjs/ical.net//NONSGML ical.net 4.0//EN
VERSION:2.0
BEGIN:VEVENT
DESCRIPTION:Wir hoffen viele Störche beobachten zu können\, ein Fernglas i
 st von Vorteil: von Stadthagen über Lahde nach Schlüsselburg. Danach weit
 er über Müsleringen nach Petershagen und zurück  nach Stadthagen.\nhttps:
 //touren-termine.adfc.de/radveranstaltung/130341-storchenroute-entlang-de
 r-weser
DTEND:20240714T160000Z
DTSTAMP:20260420T141905Z
DTSTART:20240714T080000Z
LOCATION:Am Markt 1\, 31655 Stadthagen
SEQUENCE:0
SUMMARY:Storchenroute entlang der Weser
UID:b03d6d2e-e386-4a3e-a5c6-dbe8152754b0
URL:https://touren-termine.adfc.de/radveranstaltung/130341-storchenroute-e
 ntlang-der-weser
END:VEVENT
END:VCALENDAR
