BEGIN:VCALENDAR
PRODID:-//github.com/rianjs/ical.net//NONSGML ical.net 4.0//EN
VERSION:2.0
BEGIN:VEVENT
DESCRIPTION:Lockere Feierabendtour\nhttps://touren-termine.adfc.de/radvera
 nstaltung/196930-runde-uber-bergkirchen
DTEND:20260416T190000Z
DTSTAMP:20260421T100717Z
DTSTART:20260416T160000Z
LOCATION:Bike & Ride Fahrradparkhaus\, 85221 Dachau
SEQUENCE:0
SUMMARY:Runde über Bergkirchen
UID:50b19f18-1aac-4351-87b6-41708da942b9
URL:https://touren-termine.adfc.de/radveranstaltung/196930-runde-uber-berg
 kirchen
END:VEVENT
END:VCALENDAR
