BEGIN:VCALENDAR
PRODID:-//github.com/rianjs/ical.net//NONSGML ical.net 4.0//EN
VERSION:2.0
BEGIN:VEVENT
DESCRIPTION:In einer lauen Mainacht dem Vollmond entgegen.\nhttps://touren
 -termine.adfc.de/radveranstaltung/133527-vollmondtour-mai
DTEND:20240524T210000Z
DTSTAMP:20260421T221123Z
DTSTART:20240524T190000Z
LOCATION:Herzogin-Eleonore-Allee / Am Teich im Französischen Garten\, 2922
 1 Celle
SEQUENCE:0
SUMMARY:Vollmondtour (Mai)
UID:3500e87a-67b5-4289-95df-0e71e7b75a30
URL:https://touren-termine.adfc.de/radveranstaltung/133527-vollmondtour-mai
END:VEVENT
END:VCALENDAR
