BEGIN:VCALENDAR
PRODID:-//github.com/rianjs/ical.net//NONSGML ical.net 4.0//EN
VERSION:2.0
BEGIN:VEVENT
DESCRIPTION:In gemütlicher Runde plaudern Radfahrbegeisterte über Touren\,
  Technik\, Verkehr usw.. Gäste sind herzlich eingeladen.\nhttps://touren-
 termine.adfc.de/radveranstaltung/172790-monatliches-treffen-7-jan-thaers-
 wirtshaus
DTEND:20260121T203000Z
DTSTAMP:20260421T184928Z
DTSTART:20260107T173000Z
LOCATION:Thaerplatz 1\, 29221 Celle
SEQUENCE:0
SUMMARY:Monatliches Treffen\, 7. Jan. (Thaers Wirtshaus)
UID:78e76a0b-6a56-40f2-99fa-78dbdf4c853e
URL:https://touren-termine.adfc.de/radveranstaltung/172790-monatliches-tre
 ffen-7-jan-thaers-wirtshaus
END:VEVENT
END:VCALENDAR
