BEGIN:VCALENDAR
PRODID:-//github.com/rianjs/ical.net//NONSGML ical.net 4.0//EN
VERSION:2.0
BEGIN:VEVENT
DESCRIPTION:Thementour: nachhaltig bauen an Hand ausgewählter Beispiele\nh
 ttps://touren-termine.adfc.de/radveranstaltung/98455-radeln-mit-dem-landr
 at
DTEND:20230708T180000Z
DTSTAMP:20260421T100625Z
DTSTART:20230708T143000Z
LOCATION:Bürgermeister-Zauner-Ring 1\, 3\, 5\, 7\, 85221 Dachau
SEQUENCE:0
SUMMARY:Radeln mit dem Landrat
UID:f2e3dcb4-12f8-49f5-a43c-d68ee32c49a1
URL:https://touren-termine.adfc.de/radveranstaltung/98455-radeln-mit-dem-l
 andrat
END:VEVENT
END:VCALENDAR
