BEGIN:VCALENDAR
PRODID:-//github.com/rianjs/ical.net//NONSGML ical.net 4.0//EN
VERSION:2.0
BEGIN:VEVENT
DESCRIPTION:Wir fahren zur Streuobst-Solawi S‘Obst mit Führung über die St
 reuobstwiese - eine gemeinsame Veranstaltung mit der Öko-Modellregion Lan
 dkreis Göttingen.\nhttps://touren-termine.adfc.de/radveranstaltung/198090
 -zum-apfelblutenfest-dornroschenwiese-bei-dransfeld
DTEND:20260425T150000Z
DTSTAMP:20260424T224410Z
DTSTART:20260425T100000Z
LOCATION:Güterbahnhofstraße 9\, 37073 Göttingen
SEQUENCE:0
SUMMARY:Zum Apfelblütenfest Dornröschenwiese bei Dransfeld
UID:0bf9d49b-4add-4ad5-bf37-0e8139da1203
URL:https://touren-termine.adfc.de/radveranstaltung/198090-zum-apfelbluten
 fest-dornroschenwiese-bei-dransfeld
END:VEVENT
END:VCALENDAR
