BEGIN:VCALENDAR
PRODID:-//github.com/rianjs/ical.net//NONSGML ical.net 4.0//EN
VERSION:2.0
BEGIN:VEVENT
DESCRIPTION:Auch bei uns blüht im August die Heide. Wir radeln heute durch
  die Flechten-Kieferwälder bei Leinburg. Immer wieder machen wir kurze Pa
 usen um das blühende Heidekraut zu bewundern.\nhttps://touren-termine.adf
 c.de/radveranstaltung/191024-flechten-kieferwalder-zur-heideblute-kopie
DTEND:20260821T160000Z
DTSTAMP:20260423T201542Z
DTSTART:20260821T120000Z
LOCATION:Nürnberg\, Tiergarten\, Fahrradabstellanl. am Haupteingang\, 9048
 0 Nürnberg
SEQUENCE:0
SUMMARY:Flechten - Kieferwälder zur Heideblüte (Kopie)
UID:908cf338-7a52-42da-b32d-88f1bd614740
URL:https://touren-termine.adfc.de/radveranstaltung/191024-flechten-kiefer
 walder-zur-heideblute-kopie
END:VEVENT
END:VCALENDAR
