BEGIN:VCALENDAR
PRODID:-//github.com/rianjs/ical.net//NONSGML ical.net 4.0//EN
VERSION:2.0
BEGIN:VEVENT
DESCRIPTION:Einfache Feierabendtour rund um Rinteln .Jeder (ideal auch als
  Einsteigertour)\, der ein verkehrssicheres Fahrrad besitzt und sich  auf
  dem Fahrrad wohl  fühlt\, kann gerne  teilnehmen.\nhttps://touren-termin
 e.adfc.de/radveranstaltung/178782-feierabendtour-rund-um-rinteln
DTEND:20260512T190000Z
DTSTAMP:20260420T210253Z
DTSTART:20260512T160000Z
LOCATION:Nachtwächter \, Marktplatz 6\, 31737 Rinteln
SEQUENCE:0
SUMMARY:Feierabendtour rund um Rinteln
UID:1ad484e7-5ef1-4ebe-a084-29e5d457d84e
URL:https://touren-termine.adfc.de/radveranstaltung/178782-feierabendtour-
 rund-um-rinteln
END:VEVENT
END:VCALENDAR
