BEGIN:VCALENDAR
PRODID:-//github.com/rianjs/ical.net//NONSGML ical.net 4.0//EN
VERSION:2.0
BEGIN:VEVENT
DESCRIPTION:Verschiedene Geschwindigkeitsgruppen: Pättkes-Tour (15-18 km/h
 )\, Flotte Tour (18-21 km/h)\, Schnelle Tour (21-25 km/h).\nZiel und Rout
 e werden beim Start bekannt gegeben.\nhttps://touren-termine.adfc.de/radv
 eranstaltung/112411-feierabendtour-rund-um-coesfeld-september
DTEND:20240917T180000Z
DTSTAMP:20260419T231832Z
DTSTART:20240916T160000Z
LOCATION:Marktplatz\, 48653 Coesfeld
SEQUENCE:0
SUMMARY:Feierabendtour rund um Coesfeld: September
UID:c8c55f62-0c2e-43ac-89d2-429269675b8c
URL:https://touren-termine.adfc.de/radveranstaltung/112411-feierabendtour-
 rund-um-coesfeld-september
END:VEVENT
END:VCALENDAR
