BEGIN:VCALENDAR
PRODID:-//github.com/rianjs/ical.net//NONSGML ical.net 4.0//EN
VERSION:2.0
BEGIN:VEVENT
DESCRIPTION:Diese Radtour führt in den Naturpark Aukrug entlang an Feld\, 
 Wald und Wiesen zum Erlenhof mit Kaffeerast. Nach der Stärkung geht’s flo
 tt zurück zum Ausgangspunkt.\nhttps://touren-termine.adfc.de/radveranstal
 tung/195796-tour-zum-erlenhof-nach-aukrug
DTEND:20260710T140000Z
DTSTAMP:20260422T022449Z
DTSTART:20260710T083000Z
LOCATION:Lindenstraße\, 24539 Neumünster
SEQUENCE:0
SUMMARY:Tour zum Erlenhof nach Aukrug
UID:e116d543-c56d-4a62-9d4b-4859e20bdc28
URL:https://touren-termine.adfc.de/radveranstaltung/195796-tour-zum-erlenh
 of-nach-aukrug
END:VEVENT
END:VCALENDAR
