BEGIN:VCALENDAR
PRODID:-//github.com/rianjs/ical.net//NONSGML ical.net 4.0//EN
VERSION:2.0
BEGIN:VEVENT
DESCRIPTION:Regelmäßige Tagestour mit Start in Gauting zu interessanten Zi
 elen im Südwesten von München. Heute: Auf grünen Wegen durch München\nhtt
 ps://touren-termine.adfc.de/radveranstaltung/170108-unterwegs-im-sudweste
 n
DTEND:20250807T150000Z
DTSTAMP:20260425T150336Z
DTSTART:20250807T080000Z
LOCATION:Rathaus\, Bahnhofstraße 7\, 82131 Gauting
SEQUENCE:0
SUMMARY:Unterwegs im Südwesten
UID:9fa211b5-1202-4a59-b9c9-b6716423a2aa
URL:https://touren-termine.adfc.de/radveranstaltung/170108-unterwegs-im-su
 dwesten
END:VEVENT
END:VCALENDAR
