BEGIN:VCALENDAR
PRODID:-//github.com/rianjs/ical.net//NONSGML ical.net 4.0//EN
VERSION:2.0
BEGIN:VEVENT
DESCRIPTION:Wir fahren an Bad Münder und Bad Nenndorf vorbei nach Steinhud
 e. Dort ist die Mittagsrast geplant. Die Rücktour führt uns nach Weetzen.
  Dort steigen wir in die S-Bahn nach Hameln.\nhttps://touren-termine.adfc
 .de/radveranstaltung/181755-frischen-matjes-in-steinhude
DTEND:20260501T161500Z
DTSTAMP:20260423T142522Z
DTSTART:20260501T070000Z
LOCATION:Pfortmühle an der blauen Brücke\,\, 31785 Hameln
SEQUENCE:0
SUMMARY:Frischen Matjes in Steinhude
UID:bd2901d3-37e0-4579-a215-4f2672c9edcf
URL:https://touren-termine.adfc.de/radveranstaltung/181755-frischen-matjes
 -in-steinhude
END:VEVENT
END:VCALENDAR
