BEGIN:VCALENDAR
PRODID:-//github.com/rianjs/ical.net//NONSGML ical.net 4.0//EN
VERSION:2.0
BEGIN:VEVENT
DESCRIPTION:Wir fahren in gemütlichem Tempo zum Bockpalast.\nhttps://toure
 n-termine.adfc.de/radveranstaltung/137894-vollmondtour
DTEND:20240817T200000Z
DTSTAMP:20260421T221249Z
DTSTART:20240817T170000Z
LOCATION:Herzogin-Eleonore-Allee\, 29221 Celle
SEQUENCE:0
SUMMARY:Vollmondtour
UID:69912c6b-9e68-4af9-9b39-b3f91aa68ba1
URL:https://touren-termine.adfc.de/radveranstaltung/137894-vollmondtour
END:VEVENT
END:VCALENDAR
