BEGIN:VCALENDAR
PRODID:-//github.com/rianjs/ical.net//NONSGML ical.net 4.0//EN
VERSION:2.0
BEGIN:VEVENT
DESCRIPTION:Du lebst in Schöneberg und möchtest dich für einen fahrrad-\, 
 menschen- und klimafreundlichen Bezirk einsetzen? Du bist herzlich eingel
 aden\, komm einfach dazu!\nhttps://touren-termine.adfc.de/radveranstaltun
 g/142526-treffen-der-stadtteilgruppe-schoneberg
DTEND:20250106T200000Z
DTSTAMP:20260424T020516Z
DTSTART:20250106T180000Z
LOCATION:Café Bilderbuch\, Akazienstraße 28\, 10823 Berlin
SEQUENCE:0
SUMMARY:Treffen der Stadtteilgruppe Schöneberg
UID:4df2711c-cd0c-4d48-9e1c-be5aff7b9fba
URL:https://touren-termine.adfc.de/radveranstaltung/142526-treffen-der-sta
 dtteilgruppe-schoneberg
END:VEVENT
END:VCALENDAR
