BEGIN:VCALENDAR
PRODID:-//github.com/rianjs/ical.net//NONSGML ical.net 4.0//EN
VERSION:2.0
BEGIN:VEVENT
DESCRIPTION:Stadtradeln 2025 (SR25) 20 x 20 km\nTour 02 von 20\nhttps://to
 uren-termine.adfc.de/radveranstaltung/165357-sr25t0220km-16001800-uhr
DTEND:20250520T140000Z
DTSTAMP:20260423T105938Z
DTSTART:20250520T140000Z
LOCATION:Fuhrberger Straße 4\, 30938 Burgwedel
SEQUENCE:0
SUMMARY:SR25-T02_20_km 16:00-18:00 Uhr
UID:f1605475-c3b3-4e4e-ae8e-c88e84293486
URL:https://touren-termine.adfc.de/radveranstaltung/165357-sr25t0220km-160
 01800-uhr
END:VEVENT
END:VCALENDAR
