BEGIN:VCALENDAR
PRODID:-//github.com/rianjs/ical.net//NONSGML ical.net 4.0//EN
VERSION:2.0
BEGIN:VEVENT
DESCRIPTION:Die Route führt über Niederalfingen an den Kocher und ab Abtsg
 münd an der Lein bis Pfahlbronn. Von da aus geht es abwärts ins Remstal.\
 nhttps://touren-termine.adfc.de/radveranstaltung/170149-von-ellwangen-nac
 h-schorndorf
DTEND:20251011T150000Z
DTSTAMP:20260424T144133Z
DTSTART:20251011T061500Z
LOCATION:Kegelenstraße 12\, 70372 Stuttgart
SEQUENCE:0
SUMMARY:Von Ellwangen nach Schorndorf
UID:baf55e51-1bde-4b80-b9c5-3e74e9487687
URL:https://touren-termine.adfc.de/radveranstaltung/170149-von-ellwangen-n
 ach-schorndorf
END:VEVENT
END:VCALENDAR
