BEGIN:VCALENDAR
PRODID:-//github.com/rianjs/ical.net//NONSGML ical.net 4.0//EN
VERSION:2.0
BEGIN:VEVENT
DESCRIPTION:Niemand ist perfekt\, das Radwegesystem in Cuxhaven schon gar 
 nicht!\nWir unterhalten uns über alle Dinge rund ums Fahrrad und nehmen W
 ünsche und Anregungen an.\nhttps://touren-termine.adfc.de/radveranstaltun
 g/142234-kaffeestunde
DTEND:20250127T160000Z
DTSTAMP:20260421T022331Z
DTSTART:20250127T140000Z
LOCATION:Bürgerbahnhof\, Am Bahnhof 1\, 27472 Cuxhaven
SEQUENCE:0
SUMMARY:Kaffeestunde
UID:709301c3-fbfb-4d50-820d-4841effb78ef
URL:https://touren-termine.adfc.de/radveranstaltung/142234-kaffeestunde
END:VEVENT
END:VCALENDAR
