BEGIN:VCALENDAR
PRODID:-//github.com/rianjs/ical.net//NONSGML ical.net 4.0//EN
VERSION:2.0
BEGIN:VEVENT
DESCRIPTION:Wir fahren nach Osterwald. Ein Teil der Strecke fahren wir auf
  dem Bergmannsweg mit interessanten Aussichten ins Tal.\nhttps://touren-t
 ermine.adfc.de/radveranstaltung/179071-nesselberg-und-osterwald
DTEND:20260927T160000Z
DTSTAMP:20260423T105821Z
DTSTART:20260927T080000Z
LOCATION:Pfortmühle an der blauen Brücke\,\, 31785 Hameln
SEQUENCE:0
SUMMARY:Nesselberg und Osterwald
UID:1f51e894-0c6c-4ed6-862e-a6f2090c2bda
URL:https://touren-termine.adfc.de/radveranstaltung/179071-nesselberg-und-
 osterwald
END:VEVENT
END:VCALENDAR
