BEGIN:VCALENDAR
PRODID:-//github.com/rianjs/ical.net//NONSGML ical.net 4.0//EN
VERSION:2.0
BEGIN:VEVENT
DESCRIPTION:Mitglieder hören Berichte aus Arbeitsgruppen\, besprechen weit
 ere Vorgehen und Aktivitäten\, tauschen Ideen aus – informativ\, zielorie
 ntiert und verbindend!\nhttps://touren-termine.adfc.de/radveranstaltung/1
 91765-adfc-aktiventreff
DTEND:20260820T183000Z
DTSTAMP:20260420T150124Z
DTSTART:20260820T163000Z
LOCATION:Alsenstraße 27\, 44789 Bochum
SEQUENCE:0
SUMMARY:ADFC Aktiventreff
UID:c6a6c2a5-3b40-4086-8689-937196736f66
URL:https://touren-termine.adfc.de/radveranstaltung/191765-adfc-aktiventre
 ff
END:VEVENT
END:VCALENDAR
