BEGIN:VCALENDAR
PRODID:-//github.com/rianjs/ical.net//NONSGML ical.net 4.0//EN
VERSION:2.0
BEGIN:VEVENT
DESCRIPTION:Zwischen dem Übersehafen Bremerhaven\, die zur Stadt Bremen ge
 hören\, und dem kleinen Dorf Wremen entdecken wir die Natur und erklimmen
  einen alten Kirchturm.\nhttps://touren-termine.adfc.de/radveranstaltung/
 184830-zwischen-wremen-und-bremen
DTEND:20260531T140000Z
DTSTAMP:20260421T055317Z
DTSTART:20260531T110000Z
LOCATION:Am Wremer Bahnhof\, 27639 Landkreis Cuxhaven
SEQUENCE:0
SUMMARY:Zwischen Wremen und Bremen
UID:f4aa7cbb-7c0c-4a8d-bc71-193ccefda5d1
URL:https://touren-termine.adfc.de/radveranstaltung/184830-zwischen-wremen
 -und-bremen
END:VEVENT
END:VCALENDAR
