BEGIN:VCALENDAR
PRODID:-//github.com/rianjs/ical.net//NONSGML ical.net 4.0//EN
VERSION:2.0
BEGIN:VEVENT
DESCRIPTION:Kumpfmühl – vom Dorf zum ältesten Stadtteil Regensburgs. Eine 
 Reise durch die Geschichte Kumpfmühls\nhttps://touren-termine.adfc.de/rad
 veranstaltung/114479-kumpfmuhl-der-alteste-stadtteil-regensburgs
DTEND:20240511T153000Z
DTSTAMP:20260424T173052Z
DTSTART:20240511T130000Z
LOCATION:Theresienkirche\, Kumpfmühler Straße 39\, 93051 Regensburg
SEQUENCE:0
SUMMARY:Kumpfmühl - der älteste Stadtteil Regensburgs
UID:750c0a20-1804-4396-b3d0-677638c4a985
URL:https://touren-termine.adfc.de/radveranstaltung/114479-kumpfmuhl-der-a
 lteste-stadtteil-regensburgs
END:VEVENT
END:VCALENDAR
