BEGIN:VCALENDAR
PRODID:-//github.com/rianjs/ical.net//NONSGML ical.net 4.0//EN
VERSION:2.0
BEGIN:VEVENT
DESCRIPTION:Heute "Radreisevortrag Saarland: Genuss\, Höhenmeter und bleib
 ende Erinnerungen!" Offen für Gäste und für ＡＤＦＣ-Mitglieder: Treff mit Th
 emen rund ums Rad - und darüber hinaus\nhttps://touren-termine.adfc.de/ra
 dveranstaltung/172667-5-x-winterradlertreff-dimi-ende-der-monate
DTEND:20260217T200000Z
DTSTAMP:20260424T173350Z
DTSTART:20260217T173000Z
LOCATION:Dorfgemeinschaftshaus Krähenwinkel\, Auf dem Moorhofe 4\, 30855 L
 angenhagen
SEQUENCE:0
SUMMARY:5 x Winter-Radlertreff: Di/Mi Ende der MonateⓇⓈ
UID:46aeb4e2-624f-48f0-920f-c4c899c33dc5
URL:https://touren-termine.adfc.de/radveranstaltung/172667-5-x-winterradle
 rtreff-dimi-ende-der-monate
END:VEVENT
END:VCALENDAR
