BEGIN:VCALENDAR
PRODID:-//github.com/rianjs/ical.net//NONSGML ical.net 4.0//EN
VERSION:2.0
BEGIN:VEVENT
DESCRIPTION:Wir helfen und geben Tipps zur Reparatur\, Pflege und Wartung 
 eurer Fahrräder\nhttps://touren-termine.adfc.de/radveranstaltung/131588-r
 adreparaturcafe
DTEND:20240706T130000Z
DTSTAMP:20260421T222204Z
DTSTART:20240706T090000Z
LOCATION:WIWOZU\, Südring 23\, 45525 Hattingen
SEQUENCE:0
SUMMARY:RadReparaturCafé
UID:65ae3062-a27b-43f1-ad24-ae7c46958a0c
URL:https://touren-termine.adfc.de/radveranstaltung/131588-radreparaturcafe
END:VEVENT
END:VCALENDAR
