BEGIN:VCALENDAR
PRODID:-//github.com/rianjs/ical.net//NONSGML ical.net 4.0//EN
VERSION:2.0
BEGIN:VEVENT
DESCRIPTION:Die Kieztour führt uns an der Panke entlang zum Lietzengraben\
 , durch die Waldweiden der ehemaligen Rieselfelder\, über den Biergarten 
 in Hobrechtsfelde nach Buch zur S-Bahn\nhttps://touren-termine.adfc.de/ra
 dveranstaltung/106029-kieztour-pankow-vom-blankenburg-nach-buch
DTEND:20230903T150000Z
DTSTAMP:20260424T203302Z
DTSTART:20230903T120000Z
LOCATION:S-Bhf. Blankenburg\, Bahnhofstraße\, 13129 Berlin
SEQUENCE:0
SUMMARY:Kieztour Pankow – Vom Blankenburg nach Buch
UID:c6920dfc-a673-4bd4-8c19-77a46f6b8005
URL:https://touren-termine.adfc.de/radveranstaltung/106029-kieztour-pankow
 -vom-blankenburg-nach-buch
END:VEVENT
END:VCALENDAR
