BEGIN:VCALENDAR
PRODID:-//github.com/rianjs/ical.net//NONSGML ical.net 4.0//EN
VERSION:2.0
BEGIN:VEVENT
DESCRIPTION:Feierabendtouren in die nähere Umgebung\, Distanz 20 - 30 km\,
  oft mit Einkehr.\nhttps://touren-termine.adfc.de/radveranstaltung/152358
 -gilchinger-feierabendtour
DTEND:20250516T180000Z
DTSTAMP:20260425T145837Z
DTSTART:20250516T150000Z
LOCATION:Marktplatz\, 82205 Gilching
SEQUENCE:0
SUMMARY:Gilchinger Feierabendtour
UID:1aa35225-dd4d-46db-880a-4b12f9be4800
URL:https://touren-termine.adfc.de/radveranstaltung/152358-gilchinger-feie
 rabendtour
END:VEVENT
END:VCALENDAR
