BEGIN:VCALENDAR
PRODID:-//github.com/rianjs/ical.net//NONSGML ical.net 4.0//EN
VERSION:2.0
BEGIN:VEVENT
DESCRIPTION:Jeden Montag findet morgens eine Radtour statt.\nhttps://toure
 n-termine.adfc.de/radveranstaltung/158185-montag-morgen-tour
DTEND:20250310T110000Z
DTSTAMP:20260423T201731Z
DTSTART:20250310T090000Z
LOCATION:In der Ahe 29\, 27356 Rotenburg
SEQUENCE:0
SUMMARY:Montag Morgen Tour
UID:5c457af9-1b71-4328-b732-229f1534fd64
URL:https://touren-termine.adfc.de/radveranstaltung/158185-montag-morgen-t
 our
END:VEVENT
END:VCALENDAR
