BEGIN:VCALENDAR
PRODID:-//github.com/rianjs/ical.net//NONSGML ical.net 4.0//EN
VERSION:2.0
BEGIN:VEVENT
DESCRIPTION:Öffentlicher Stammtisch des ADFC Kempten-Oberallgäu\nhttps://t
 ouren-termine.adfc.de/radveranstaltung/104541-radlerstammtisch-in-martins
 zell
DTEND:20231019T193000Z
DTSTAMP:20260424T152344Z
DTSTART:20231019T180000Z
LOCATION:IG OMa im Bahnhof Martinszell\, Oberdorfer Bahnhofstraße 7\, 8744
 8 Landkreis Oberallgäu
SEQUENCE:0
SUMMARY:Radlerstammtisch in Martinszell
UID:560d1613-bba2-4185-a2ab-993d86fa57bf
URL:https://touren-termine.adfc.de/radveranstaltung/104541-radlerstammtisc
 h-in-martinszell
END:VEVENT
END:VCALENDAR
