BEGIN:VCALENDAR
PRODID:-//github.com/rianjs/ical.net//NONSGML ical.net 4.0//EN
VERSION:2.0
BEGIN:VEVENT
DESCRIPTION:Jeden 3. Mittwoch im Monat\, von April bis September\, fahren 
 wir durch und um Leverkusen. \nGeeignet für Radfahrer*innen und Neubürger
 *innen\, die Leverkusen und den ADFC Leverkusen kennenlernen möchten.\nht
 tps://touren-termine.adfc.de/radveranstaltung/151750-feierabendtour-adfc-
 leverkusen
DTEND:20250416T180000Z
DTSTAMP:20260419T155922Z
DTSTART:20250416T160000Z
LOCATION:Tannenbergstraße\, unter der Stelzenautobahn\, 51373 Leverkusen
SEQUENCE:0
SUMMARY:Feierabendtour ADFC Leverkusen
UID:7eaf3439-c41c-4ce3-ac2a-67205c8fde4b
URL:https://touren-termine.adfc.de/radveranstaltung/151750-feierabendtour-
 adfc-leverkusen
END:VEVENT
END:VCALENDAR
