BEGIN:VCALENDAR
PRODID:-//github.com/rianjs/ical.net//NONSGML ical.net 4.0//EN
VERSION:2.0
BEGIN:VEVENT
DESCRIPTION:Stadtradeln 2025 (SR25) 20 x 20 km\nTour 07 von 20\nhttps://to
 uren-termine.adfc.de/radveranstaltung/165366-sr25t0721km-16001800-uhr
DTEND:20250525T160000Z
DTSTAMP:20260423T105708Z
DTSTART:20250525T140000Z
LOCATION:Fuhrberger Straße 4\, 30938 Burgwedel
SEQUENCE:0
SUMMARY:SR25-T07_21_km 16:00-18:00 Uhr
UID:9ad13a2c-36f9-4ebe-9bc5-2e988d1803ec
URL:https://touren-termine.adfc.de/radveranstaltung/165366-sr25t0721km-160
 01800-uhr
END:VEVENT
END:VCALENDAR
