BEGIN:VCALENDAR
PRODID:-//github.com/rianjs/ical.net//NONSGML ical.net 4.0//EN
VERSION:2.0
BEGIN:VEVENT
DESCRIPTION:2. Grodener Fahrradtour zusammen mit dem Grodener SV - Anmeldu
 ng nicht mehr möglich.\nhttps://touren-termine.adfc.de/radveranstaltung/1
 68140-auf-die-rader-fertig-los
DTEND:20250619T170000Z
DTSTAMP:20260421T053203Z
DTSTART:20250619T150000Z
LOCATION:Papenstraße 4\, 27472 Cuxhaven
SEQUENCE:0
SUMMARY:Auf die Räder - fertig - los!
UID:59bff95a-4bf4-46b9-bb90-1be595fac9c2
URL:https://touren-termine.adfc.de/radveranstaltung/168140-auf-die-rader-f
 ertig-los
END:VEVENT
END:VCALENDAR
