BEGIN:VCALENDAR
PRODID:-//github.com/rianjs/ical.net//NONSGML ical.net 4.0//EN
VERSION:2.0
BEGIN:VEVENT
DESCRIPTION:WANDERUNG vom Bhf. Fangschleuse entlang der Löcknitz und durch
  viel Wald auf den Kranichberg\, vorbei an der Liebesquelle in Woltersdor
 f. Dort gibt es einen kleinen Adventsmarkt. Länge 22 km.\nhttps://touren-
 termine.adfc.de/radveranstaltung/144531-wanderung-locknitztal-und-kranich
 berg
DTEND:20241207T160000Z
DTSTAMP:20260424T230956Z
DTSTART:20241207T080500Z
LOCATION:Bhf. Ostkreuz\, Gleis 1\, 10245 Berlin
SEQUENCE:0
SUMMARY:WANDERUNG: Löcknitztal und Kranichberg
UID:c5591a42-5e6c-4e0d-866d-69363ed86247
URL:https://touren-termine.adfc.de/radveranstaltung/144531-wanderung-lockn
 itztal-und-kranichberg
END:VEVENT
END:VCALENDAR
