BEGIN:VCALENDAR
PRODID:-//github.com/rianjs/ical.net//NONSGML ical.net 4.0//EN
VERSION:2.0
BEGIN:VEVENT
DESCRIPTION:Radtour von der Burg Bederkesa zu den Burgruinen Sievern und A
 ltenwalde mit geschichtlicher Leitung.\nEin Dazukommen in Sievern und Alt
 enwalde ist möglich. Bitte mitteilen. Ende wieder in Bederkesa.\nhttps://
 touren-termine.adfc.de/radveranstaltung/154761-burgentour
DTEND:20250810T140000Z
DTSTAMP:20260421T053040Z
DTSTART:20250810T080000Z
LOCATION:Amtsstraße 15\, 27624 Geestland
SEQUENCE:0
SUMMARY:Burgentour
UID:4c5438b7-e90c-4667-828e-49a5df9faffd
URL:https://touren-termine.adfc.de/radveranstaltung/154761-burgentour
END:VEVENT
END:VCALENDAR
