BEGIN:VCALENDAR
PRODID:-//github.com/rianjs/ical.net//NONSGML ical.net 4.0//EN
VERSION:2.0
BEGIN:VEVENT
DESCRIPTION:Wir beschäftigen uns mit der Verkehrsplanung im Bezirk Mitte u
 nd setzten uns dabei für den Radverkehr ein.\nhttps://touren-termine.adfc
 .de/radveranstaltung/126860-bezirksgruppe-mitte
DTEND:20240701T190000Z
DTSTAMP:20260420T230946Z
DTSTART:20240701T170000Z
LOCATION:Koppel 34-36\, 20099 Hamburg
SEQUENCE:0
SUMMARY:Bezirksgruppe Mitte
UID:5dbb64e2-f428-4f27-b543-83679f4e25c9
URL:https://touren-termine.adfc.de/radveranstaltung/126860-bezirksgruppe-m
 itte
END:VEVENT
END:VCALENDAR
