BEGIN:VCALENDAR
PRODID:-//github.com/rianjs/ical.net//NONSGML ical.net 4.0//EN
VERSION:2.0
BEGIN:VEVENT
DESCRIPTION:Radtour von Feuerbach über Ludwigsburg\, Asperg\, Markgröninge
 n zum Schloss Schöckingen und im bogen zurück nach Feuerbach\nhttps://tou
 ren-termine.adfc.de/radveranstaltung/99478-von-feuerbach-nach-schloss-sch
 ockingen-und-zuruck
DTEND:20230625T150000Z
DTSTAMP:20260424T144613Z
DTSTART:20230625T070000Z
LOCATION:Bahnhof Feuerbach\, 70469 Stuttgart
SEQUENCE:0
SUMMARY:Von Feuerbach nach Schloss Schöckingen und zurück
UID:b2f8eecf-ad89-4c01-857a-1a3199a4ef29
URL:https://touren-termine.adfc.de/radveranstaltung/99478-von-feuerbach-na
 ch-schloss-schockingen-und-zuruck
END:VEVENT
END:VCALENDAR
