BEGIN:VCALENDAR
PRODID:-//github.com/rianjs/ical.net//NONSGML ical.net 4.0//EN
VERSION:2.0
BEGIN:VEVENT
DESCRIPTION:Bei der Codierung von Fahrrädern werden Angaben über die Besit
 zer*in verschlüsselt am Fahrrad angebracht.\nEine Anmeldung ist unbedingt
  erforderlich\nhttps://touren-termine.adfc.de/radveranstaltung/168019-fah
 rradcodierung-2808-1730-bis-1745-uhr
DTEND:20250828T154500Z
DTSTAMP:20260420T232101Z
DTSTART:20250828T153000Z
LOCATION:Koppel 34 - 36\, 20099 Hamburg\, St. Georg
SEQUENCE:0
SUMMARY:Fahrrad-Codierung (28.08. - 17:30 bis 17:45 Uhr)
UID:71197ce2-e032-4714-be4b-40dc98946ddc
URL:https://touren-termine.adfc.de/radveranstaltung/168019-fahrradcodierun
 g-2808-1730-bis-1745-uhr
END:VEVENT
END:VCALENDAR
