BEGIN:VCALENDAR
PRODID:-//github.com/rianjs/ical.net//NONSGML ical.net 4.0//EN
VERSION:2.0
BEGIN:VEVENT
DESCRIPTION:Die neu gegründete Frauengruppe im ADFC Stuttgart trifft sich 
 regelmäßig unter dem Motto "Keine fährt alleine" und lädt alle interessie
 rten Frauen zum Mitmachen ein.\nhttps://touren-termine.adfc.de/radveranst
 altung/130722-keine-fahrt-alleine-frauengruppe-adfc-stuttgart
DTEND:20240417T180000Z
DTSTAMP:20260424T115704Z
DTSTART:20240417T160000Z
LOCATION:Augustenstraße 72\, 70178 Stuttgart
SEQUENCE:0
SUMMARY:Keine fährt alleine! - Frauengruppe ADFC Stuttgart
UID:7858c8de-a214-45de-9e85-2123a315605f
URL:https://touren-termine.adfc.de/radveranstaltung/130722-keine-fahrt-all
 eine-frauengruppe-adfc-stuttgart
END:VEVENT
END:VCALENDAR
