BEGIN:VCALENDAR
PRODID:-//github.com/rianjs/ical.net//NONSGML ical.net 4.0//EN
VERSION:2.0
BEGIN:VEVENT
DESCRIPTION:Du lebst in Schöneberg und möchtest dich für einen fahrrad-\, 
 menschen- und klimafreundlichen Bezirk einsetzen? Du bist herzlich eingel
 aden. Komm einfach dazu!\nhttps://touren-termine.adfc.de/radveranstaltung
 /142525-treffen-der-stadtteilgruppe-schoneberg
DTEND:20241202T200000Z
DTSTAMP:20260424T020833Z
DTSTART:20241202T180000Z
LOCATION:Raum für Beteiligung\, Dominicusstraße 11\, 10823 Berlin
SEQUENCE:0
SUMMARY:Treffen der Stadtteilgruppe Schöneberg
UID:fbca6db3-ffca-4868-8941-b62da7a82600
URL:https://touren-termine.adfc.de/radveranstaltung/142525-treffen-der-sta
 dtteilgruppe-schoneberg
END:VEVENT
END:VCALENDAR
