BEGIN:VCALENDAR
PRODID:-//github.com/rianjs/ical.net//NONSGML ical.net 4.0//EN
VERSION:2.0
BEGIN:VEVENT
DESCRIPTION:Ein alter Klassiker kommt zurück.\nWir fahren am Wasser entlan
 g in Richtung Cappel-Neufeld\, lassen uns dort den ein oder anderen Flamm
 kuchen munden\, und fahren über Oxstedt zurück nach Cuxhaven.\nhttps://to
 uren-termine.adfc.de/radveranstaltung/147801-flammkuchentour
DTEND:20250723T170000Z
DTSTAMP:20260421T073836Z
DTSTART:20250723T140000Z
LOCATION:Bürgerbahnhof\, Am Bahnhof 1\, 27472 Cuxhaven
SEQUENCE:0
SUMMARY:Flammkuchentour
UID:b7492e76-a016-4bf7-9140-f386a4ca5282
URL:https://touren-termine.adfc.de/radveranstaltung/147801-flammkuchentour
END:VEVENT
END:VCALENDAR
