BEGIN:VCALENDAR
PRODID:-//github.com/rianjs/ical.net//NONSGML ical.net 4.0//EN
VERSION:2.0
BEGIN:VEVENT
DESCRIPTION:Schweizer Velo-Route 8 von  Andermatt nach Waldshut\nhttps://t
 ouren-termine.adfc.de/radveranstaltung/108556-aareroute
DTEND:20240714T200000Z
DTSTAMP:20260424T142427Z
DTSTART:20240710T080000Z
LOCATION:Hauptbahnhof\, 70173 Stuttgart
SEQUENCE:0
SUMMARY:Aare-Route
UID:eaf35252-36aa-47d0-8f42-f91bca3059d6
URL:https://touren-termine.adfc.de/radveranstaltung/108556-aareroute
END:VEVENT
END:VCALENDAR
