BEGIN:VCALENDAR
PRODID:-//github.com/rianjs/ical.net//NONSGML ical.net 4.0//EN
VERSION:2.0
BEGIN:VEVENT
DESCRIPTION:Eine WANDERUNG von Potsdam-Rehbrücke entlang der Nuthe und zur
  Windmühle von Langerwisch. Weiter zum Teufelssee und über den großen und
  kleinen Ravensberg nach Potsdam. Länge: 20 km.\nhttps://touren-termine.a
 dfc.de/radveranstaltung/146985-wanderung-uber-die-ravensberge
DTEND:20241228T160000Z
DTSTAMP:20260424T230905Z
DTSTART:20241228T081000Z
LOCATION:Bhf. Zoologischer Garten\, Gleis 3\, 10623 Berlin
SEQUENCE:0
SUMMARY:WANDERUNG über die Ravensberge
UID:06b05612-bcba-40d5-a389-f85b31d2f43d
URL:https://touren-termine.adfc.de/radveranstaltung/146985-wanderung-uber-
 die-ravensberge
END:VEVENT
END:VCALENDAR
