BEGIN:VCALENDAR
PRODID:-//github.com/rianjs/ical.net//NONSGML ical.net 4.0//EN
VERSION:2.0
BEGIN:VEVENT
DESCRIPTION:Die Ortsgruppe Kempen des ADFC Krefeld - Kreis Viersen bietet 
 den Service der Fahrradcodierung an.\nhttps://touren-termine.adfc.de/radv
 eranstaltung/190730-fahrradcodierung-am-nettetaltag-in-lobberich
DTEND:20260322T150000Z
DTSTAMP:20260421T103253Z
DTSTART:20260322T120000Z
LOCATION:Marktstraße 21\, 41334 Lobberich
SEQUENCE:0
SUMMARY:Fahrrad-Codierung am Nettetal-Tag in Lobberich
UID:54cacbb6-8ec8-42d5-a4a1-d59fffb98272
URL:https://touren-termine.adfc.de/radveranstaltung/190730-fahrradcodierun
 g-am-nettetaltag-in-lobberich
END:VEVENT
END:VCALENDAR
