BEGIN:VCALENDAR
PRODID:-//github.com/rianjs/ical.net//NONSGML ical.net 4.0//EN
VERSION:2.0
BEGIN:VEVENT
DESCRIPTION:MTB und Crosstour Alte Alster und Trave Kanal\nhttps://touren-
 termine.adfc.de/radveranstaltung/89443-crosstour-alte-alster
DTEND:20230716T140000Z
DTSTAMP:20260423T015258Z
DTSTART:20230716T080000Z
LOCATION:U-Bahn Ahrensburg-West\, Waldemar-Bonsels-Weg\, 22926 Ahrensburg
SEQUENCE:0
SUMMARY:Crosstour Alte Alster
UID:7af11bca-a389-46f5-a2d8-e07e78eadb04
URL:https://touren-termine.adfc.de/radveranstaltung/89443-crosstour-alte-a
 lster
END:VEVENT
END:VCALENDAR
