BEGIN:VCALENDAR
PRODID:-//github.com/rianjs/ical.net//NONSGML ical.net 4.0//EN
VERSION:2.0
BEGIN:VEVENT
DESCRIPTION:Mit der ADFC-Lichterfahrt am Freitag\, den 11. Oktober 2024 de
 monstrieren wir für mehr Sicherheit für Radfahrende.\nhttps://touren-term
 ine.adfc.de/radveranstaltung/139534-adfclichterfahrt
DTEND:20241011T200000Z
DTSTAMP:20260421T233058Z
DTSTART:20241011T180000Z
LOCATION:Potsdamer Platz\, 10785 Berlin
SEQUENCE:0
SUMMARY:ADFC-Lichterfahrt
UID:f590bed4-2148-4aff-8c6d-e5f18ecd73d1
URL:https://touren-termine.adfc.de/radveranstaltung/139534-adfclichterfahrt
END:VEVENT
END:VCALENDAR
