BEGIN:VCALENDAR
PRODID:-//github.com/rianjs/ical.net//NONSGML ical.net 4.0//EN
VERSION:2.0
BEGIN:VEVENT
DESCRIPTION:Im Rahmen des Radaktionstag des Mainzer fahrRad Büros zum Star
 t des Mainzer Stadtradeln bieten wir bei der Theodor-Heuss-Brücke - strom
 abwärts auf Mainzer Seite - die Fahrradcodierung an.\nhttps://touren-term
 ine.adfc.de/radveranstaltung/185541-radaktionstag-des-mainzer-fahrrad-bur
 os
DTEND:20260530T140000Z
DTSTAMP:20260421T160925Z
DTSTART:20260530T080000Z
LOCATION:Adenauer-Ufer stromabwärts der Theodor-Heuss-Brücke\, 55116 Mainz
SEQUENCE:0
SUMMARY:Radaktionstag des Mainzer fahrRad Büros
UID:64a9bc72-a97f-40df-89db-08c6a583505f
URL:https://touren-termine.adfc.de/radveranstaltung/185541-radaktionstag-d
 es-mainzer-fahrrad-buros
END:VEVENT
END:VCALENDAR
